BEGIN:VCALENDAR
VERSION:2.0
PRODID:-//Crooked Oaks RV Park - ECPv6.13.2.1//NONSGML v1.0//EN
CALSCALE:GREGORIAN
METHOD:PUBLISH
X-WR-CALNAME:Crooked Oaks RV Park
X-ORIGINAL-URL:https://crookedoaksrvpark.com
X-WR-CALDESC:Events for Crooked Oaks RV Park
REFRESH-INTERVAL;VALUE=DURATION:PT1H
X-Robots-Tag:noindex
X-PUBLISHED-TTL:PT1H
BEGIN:VTIMEZONE
TZID:UTC
BEGIN:STANDARD
TZOFFSETFROM:+0000
TZOFFSETTO:+0000
TZNAME:UTC
DTSTART:20260101T000000
END:STANDARD
END:VTIMEZONE
BEGIN:VEVENT
DTSTART;TZID=UTC:20260425T100000
DTEND;TZID=UTC:20260425T140000
DTSTAMP:20260425T141552
CREATED:20260317T224042Z
LAST-MODIFIED:20260317T224042Z
UID:5196-1777111200-1777125600@crookedoaksrvpark.com
SUMMARY:Crafts
DESCRIPTION:Stop by for a relaxing afternoon of crafting fun. We’ll have a variety of easy and creative projects for kids and adults to enjoy. It’s the perfect chance to make something special to take home.
URL:https://crookedoaksrvpark.com/event/crafts-6/
ATTACH;FMTTYPE=image/png:https://crookedoaksrvpark.com/wp-content/uploads/2026/03/7717ff1a-29ea-454d-b700-42e8a9c00783.png
END:VEVENT
BEGIN:VEVENT
DTSTART;TZID=UTC:20260425T150000
DTEND;TZID=UTC:20260425T160000
DTSTAMP:20260425T141552
CREATED:20260317T224143Z
LAST-MODIFIED:20260317T224143Z
UID:5198-1777129200-1777132800@crookedoaksrvpark.com
SUMMARY:BINGO!
DESCRIPTION:Join us for a few lively rounds of campground BINGO! It’s easy to play\, fun for all ages\, and there are prizes up for grabs. Bring your lucky charm and see if you can call out BINGO first!
URL:https://crookedoaksrvpark.com/event/bingo-12/
ATTACH;FMTTYPE=image/png:https://crookedoaksrvpark.com/wp-content/uploads/2026/03/f87cf984-7e65-4d3c-9175-99cdcdb4c0c2.png
END:VEVENT
END:VCALENDAR