BEGIN:VCALENDAR
VERSION:2.0
PRODID:-//Crooked Oaks RV Park - ECPv6.13.2.1//NONSGML v1.0//EN
CALSCALE:GREGORIAN
METHOD:PUBLISH
X-WR-CALNAME:Crooked Oaks RV Park
X-ORIGINAL-URL:https://crookedoaksrvpark.com
X-WR-CALDESC:Events for Crooked Oaks RV Park
REFRESH-INTERVAL;VALUE=DURATION:PT1H
X-Robots-Tag:noindex
X-PUBLISHED-TTL:PT1H
BEGIN:VTIMEZONE
TZID:UTC
BEGIN:STANDARD
TZOFFSETFROM:+0000
TZOFFSETTO:+0000
TZNAME:UTC
DTSTART:20250101T000000
END:STANDARD
END:VTIMEZONE
BEGIN:VEVENT
DTSTART;TZID=UTC:20251025T110000
DTEND;TZID=UTC:20251025T150000
DTSTAMP:20260426T013558
CREATED:20250918T183637Z
LAST-MODIFIED:20250918T183637Z
UID:5077-1761390000-1761404400@crookedoaksrvpark.com
SUMMARY:HALLOWEEN BLOCK PARTY
DESCRIPTION:Join us for a spooktacular time on Halloween from 11 AM to 3 PM at Crooked Oaks RV Park! Enjoy a festive day packed with fun for all ages\, including live music and karaoke by DJ EMS\, a bounce house\, food truck\, s’mores\, and exciting surprises throughout the event. Don’t miss the sweet arrival of the Pelican’s Sno ball truck at 2 PM serving up delicious frozen treats! Come in costume\, bring your friends and family\, and celebrate Halloween with the Crooked Oaks community!
URL:https://crookedoaksrvpark.com/event/halloween-block-party/
ATTACH;FMTTYPE=image/png:https://crookedoaksrvpark.com/wp-content/uploads/2025/09/6e87fb41-0314-4bea-a200-c2ad69a589af.png
END:VEVENT
BEGIN:VEVENT
DTSTART;TZID=UTC:20251011T110000
DTEND;TZID=UTC:20251011T140000
DTSTAMP:20260426T013558
CREATED:20250918T183819Z
LAST-MODIFIED:20250918T183819Z
UID:5082-1760180400-1760191200@crookedoaksrvpark.com
SUMMARY:Kids Crafts
DESCRIPTION:Get creative at our Craft Day at the RV park! Whether you’re into painting\, jewelry\, or DIY projects\, there’s something for everyone. Supplies will be provided. Enjoy a fun-filled day of crafting and fellowship. Come unleash your inner artist and make something special. Event starts at 11:00am!
URL:https://crookedoaksrvpark.com/event/kids-crafts-3/
ATTACH;FMTTYPE=image/jpeg:https://crookedoaksrvpark.com/wp-content/uploads/2025/06/kid-crafts.jpg
END:VEVENT
BEGIN:VEVENT
DTSTART;TZID=UTC:20251004T110000
DTEND;TZID=UTC:20251004T140000
DTSTAMP:20260426T013558
CREATED:20250918T183735Z
LAST-MODIFIED:20250918T183735Z
UID:5080-1759575600-1759586400@crookedoaksrvpark.com
SUMMARY:Kids Crafts
DESCRIPTION:Get creative at our Craft Day at the RV park! Whether you’re into painting\, jewelry\, or DIY projects\, there’s something for everyone. Supplies will be provided. Enjoy a fun-filled day of crafting and fellowship. Come unleash your inner artist and make something special. Event starts at 11:00am!
URL:https://crookedoaksrvpark.com/event/kids-crafts-2/
ATTACH;FMTTYPE=image/jpeg:https://crookedoaksrvpark.com/wp-content/uploads/2025/06/kid-crafts.jpg
END:VEVENT
BEGIN:VEVENT
DTSTART;TZID=UTC:20250918T110000
DTEND;TZID=UTC:20250918T140000
DTSTAMP:20260426T013558
CREATED:20250918T183103Z
LAST-MODIFIED:20250918T183103Z
UID:5075-1758193200-1758204000@crookedoaksrvpark.com
SUMMARY:Kids Crafts
DESCRIPTION:Get creative at our Craft Day at the RV park! Whether you’re into painting\, jewelry\, or DIY projects\, there’s something for everyone. Supplies will be provided. Enjoy a fun-filled day of crafting and fellowship. Come unleash your inner artist and make something special. Event starts at 11:00am!
URL:https://crookedoaksrvpark.com/event/kids-crafts/
ATTACH;FMTTYPE=image/jpeg:https://crookedoaksrvpark.com/wp-content/uploads/2025/06/kid-crafts.jpg
END:VEVENT
BEGIN:VEVENT
DTSTART;TZID=UTC:20250831T160000
DTEND;TZID=UTC:20250831T200000
DTSTAMP:20260426T013558
CREATED:20250721T220805Z
LAST-MODIFIED:20250721T220805Z
UID:5000-1756656000-1756670400@crookedoaksrvpark.com
SUMMARY:EMS Karaoke
DESCRIPTION:EMS Entertainment is bringing the beats to our RV park! Get ready for an afternoon of music\,\ndancing\, and good vibes. Whether you’re into classic hits\, today’s chart-toppers\, or something\nin between\, DJ EMS knows how to keep the party going. Come join the fun and let’s make some\nmemories under the stars. Music will go from 4:00pm-8:00pm!
URL:https://crookedoaksrvpark.com/event/ems-karaoke-3/
END:VEVENT
BEGIN:VEVENT
DTSTART;TZID=UTC:20250831T140000
DTEND;TZID=UTC:20250831T160000
DTSTAMP:20260426T013558
CREATED:20250721T220858Z
LAST-MODIFIED:20250721T220858Z
UID:5002-1756648800-1756656000@crookedoaksrvpark.com
SUMMARY:Tie Dye T-Shirts
DESCRIPTION:Show off your Crooked Oaks pride with a custom Tie-Dye T-shirt at the RV park! For just $15\,\nyou’ll get a vibrant\, one-of-a-kind shirt featuring our Crooked Oaks logo on the front and back.\nIt’s a fun way to make a colorful memory and sport your park spirit. The fun starts at 2pm!
URL:https://crookedoaksrvpark.com/event/tie-dye-t-shirts-3/
END:VEVENT
BEGIN:VEVENT
DTSTART;TZID=UTC:20250830T160000
DTEND;TZID=UTC:20250830T200000
DTSTAMP:20260426T013558
CREATED:20250721T220733Z
LAST-MODIFIED:20250721T220733Z
UID:4998-1756569600-1756584000@crookedoaksrvpark.com
SUMMARY:EMS Karaoke
DESCRIPTION:EMS Entertainment is bringing the beats to our RV park! Get ready for an afternoon of music\,\ndancing\, and good vibes. Whether you’re into classic hits\, today’s chart-toppers\, or something\nin between\, DJ EMS knows how to keep the party going. Come join the fun and let’s make some\nmemories under the stars. Music will go from 4:00pm-8:00pm!
URL:https://crookedoaksrvpark.com/event/ems-karaoke-2/
END:VEVENT
BEGIN:VEVENT
DTSTART;TZID=UTC:20250830T140000
DTEND;TZID=UTC:20250830T160000
DTSTAMP:20260426T013558
CREATED:20250721T220356Z
LAST-MODIFIED:20250721T220356Z
UID:4988-1756562400-1756569600@crookedoaksrvpark.com
SUMMARY:Kids Craft Day
DESCRIPTION:Get creative at our Craft Day at the RV park! Whether you’re into painting\, jewelry\, or DIY\nprojects\, there’s something for everyone. Supplies will be provided. Enjoy a fun-filled day of\ncrafting and fellowship. Come unleash your inner artist and make something special!
URL:https://crookedoaksrvpark.com/event/kids-craft-day-6/
END:VEVENT
BEGIN:VEVENT
DTSTART;TZID=UTC:20250830T130000
DTEND;TZID=UTC:20250830T140000
DTSTAMP:20260426T013558
CREATED:20250721T220625Z
LAST-MODIFIED:20250721T220640Z
UID:4996-1756558800-1756562400@crookedoaksrvpark.com
SUMMARY:Pelican Snoballs
DESCRIPTION:Cool off with a sweet treat from Pelican Snoballs! Serving up delicious\, fluffy shaved ice in a\nrainbow of flavors\, they’re the perfect way to beat the heat. Stop by for a refreshing snack the\nwhole family will love. They will arrive around 1pm!
URL:https://crookedoaksrvpark.com/event/pelican-snoballs/
END:VEVENT
BEGIN:VEVENT
DTSTART;TZID=UTC:20250830T120000
DTEND;TZID=UTC:20250830T140000
DTSTAMP:20260426T013558
CREATED:20250721T220545Z
LAST-MODIFIED:20250721T220545Z
UID:4994-1756555200-1756562400@crookedoaksrvpark.com
SUMMARY:FREE Cook Out
DESCRIPTION:Come enjoy a free cookout at Crooked Oaks RV Park on the 4th of July from 12:00 PM to 2:00\nPM! We’ll be serving up free hamburgers\, hotdogs\, all the fixings\, and bottled water. Bring your\nappetite and celebrate with friends\, family\, and great food—everyone is welcome!
URL:https://crookedoaksrvpark.com/event/free-cook-out/
END:VEVENT
BEGIN:VEVENT
DTSTART;TZID=UTC:20250829T180000
DTEND;TZID=UTC:20250829T180000
DTSTAMP:20260426T013558
CREATED:20250721T221331Z
LAST-MODIFIED:20250721T221528Z
UID:5007-1756490400-1756490400@crookedoaksrvpark.com
SUMMARY:Bingo
DESCRIPTION:Get ready for a fun-filled Bingo Night! Grab your cards and join us for a lively evening of\nchances to win great prizes\, enjoy some laughs\, and meet new friends. Whether you’re a Bingo\npro or a first-timer\, it’s sure to be a blast! Games start at 6pm.
URL:https://crookedoaksrvpark.com/event/bingo-8/
END:VEVENT
BEGIN:VEVENT
DTSTART;TZID=UTC:20250829T100000
DTEND;TZID=UTC:20250829T130000
DTSTAMP:20260426T013558
CREATED:20250721T220512Z
LAST-MODIFIED:20250721T220512Z
UID:4992-1756461600-1756472400@crookedoaksrvpark.com
SUMMARY:Windsock Craft Day
DESCRIPTION:Come get crafty and make your own colorful windsock! This fun\, hands-on activity is great for\nall ages. Use ribbons\, streamers\, and your imagination to create a windsock that will dance in\nthe breeze at your campsite. All materials provided—just bring your creativity. Activity starts at\n10am!
URL:https://crookedoaksrvpark.com/event/windsock-craft-day/
END:VEVENT
BEGIN:VEVENT
DTSTART;TZID=UTC:20250829T100000
DTEND;TZID=UTC:20250829T130000
DTSTAMP:20260426T013558
CREATED:20250721T220323Z
LAST-MODIFIED:20250721T220323Z
UID:4986-1756461600-1756472400@crookedoaksrvpark.com
SUMMARY:Kids Craft Day
DESCRIPTION:Get creative at our Craft Day at the RV park! Whether you’re into painting\, jewelry\, or DIY\nprojects\, there’s something for everyone. Supplies will be provided. Enjoy a fun-filled day of\ncrafting and fellowship. Come unleash your inner artist and make something special!
URL:https://crookedoaksrvpark.com/event/kids-craft-day-5/
END:VEVENT
BEGIN:VEVENT
DTSTART;TZID=UTC:20250827T100000
DTEND;TZID=UTC:20250827T120000
DTSTAMP:20260426T013558
CREATED:20250721T215453Z
LAST-MODIFIED:20250721T215453Z
UID:4965-1756288800-1756296000@crookedoaksrvpark.com
SUMMARY:Pickleball
DESCRIPTION:Whether you’re a seasoned pro or a first-timer\, our courts offer the perfect spot to get active\nand enjoy this fast-paced\, social game. Grab a paddle\, meet fellow guests\, and hit the court for\nsome exciting rallies. It’s a great way to stay fit\, make new friends\, and enjoy the outdoors\nwhile having a blast. Games start at 10am!
URL:https://crookedoaksrvpark.com/event/pickleball-7/
END:VEVENT
BEGIN:VEVENT
DTSTART;TZID=UTC:20250824T100000
DTEND;TZID=UTC:20250824T130000
DTSTAMP:20260426T013558
CREATED:20250721T220256Z
LAST-MODIFIED:20250721T222303Z
UID:4984-1756029600-1756040400@crookedoaksrvpark.com
SUMMARY:Kids Craft Day
DESCRIPTION:Get creative at our Craft Day at the RV park! Whether you’re into painting\, jewelry\, or DIY\nprojects\, there’s something for everyone. Supplies will be provided. Enjoy a fun-filled day of\ncrafting and fellowship. Come unleash your inner artist and make something special!
URL:https://crookedoaksrvpark.com/event/kids-craft-day-4/
END:VEVENT
BEGIN:VEVENT
DTSTART;TZID=UTC:20250823T100000
DTEND;TZID=UTC:20250823T130000
DTSTAMP:20260426T013558
CREATED:20250721T220225Z
LAST-MODIFIED:20250721T220225Z
UID:4982-1755943200-1755954000@crookedoaksrvpark.com
SUMMARY:Kid's Craft Day
DESCRIPTION:Get creative at our Craft Day at the RV park! Whether you’re into painting\, jewelry\, or DIY\nprojects\, there’s something for everyone. Supplies will be provided. Enjoy a fun-filled day of\ncrafting and fellowship. Come unleash your inner artist and make something special!
URL:https://crookedoaksrvpark.com/event/kids-craft-day-3/
END:VEVENT
BEGIN:VEVENT
DTSTART;TZID=UTC:20250822T180000
DTEND;TZID=UTC:20250822T180000
DTSTAMP:20260426T013558
CREATED:20250721T215244Z
LAST-MODIFIED:20250721T221940Z
UID:4959-1755885600-1755885600@crookedoaksrvpark.com
SUMMARY:Line Dancing
DESCRIPTION:Put on your dancing boots and join us for a fun Line Dancing class at our RV park! Whether\nyou’re a beginner or a seasoned dancer\, our friendly instructor Mrs. Patti will guide you through\nthe steps to some lively tunes. It’s a great way to get moving\, have fun\, and meet new friends!\nCome dance the day away with us! Class starts at 6:00pm!
URL:https://crookedoaksrvpark.com/event/line-dancing-6/
END:VEVENT
BEGIN:VEVENT
DTSTART;TZID=UTC:20250820T100000
DTEND;TZID=UTC:20250820T103000
DTSTAMP:20260426T013558
CREATED:20250721T215109Z
LAST-MODIFIED:20250721T215109Z
UID:4953-1755684000-1755685800@crookedoaksrvpark.com
SUMMARY:Pool Excercises
DESCRIPTION:Stay active and have fun with our Pool Exercises at the RV park! Join us for a refreshing\, low-\nimpact workout in the pool that’s perfect for all fitness levels. It’s a great way to get your body\nmoving\, improve strength\, and enjoy the water. Come splash\, stretch\, and soak up the sunshine\nwith us. Class starts at 10:00am!
URL:https://crookedoaksrvpark.com/event/pool-excercises/
END:VEVENT
BEGIN:VEVENT
DTSTART;TZID=UTC:20250817T100000
DTEND;TZID=UTC:20250817T130000
DTSTAMP:20260426T013558
CREATED:20250721T220143Z
LAST-MODIFIED:20250721T220143Z
UID:4980-1755424800-1755435600@crookedoaksrvpark.com
SUMMARY:Kid’s Craft Day
DESCRIPTION:Get creative at our Craft Day at the RV park! Whether you’re into painting\, jewelry\, or DIY\nprojects\, there’s something for everyone. Supplies will be provided. Enjoy a fun-filled day of\ncrafting and fellowship. Come unleash your inner artist and make something special!
URL:https://crookedoaksrvpark.com/event/kids-craft-day-2/
END:VEVENT
BEGIN:VEVENT
DTSTART;TZID=UTC:20250816T140000
DTEND;TZID=UTC:20250816T160000
DTSTAMP:20260426T013558
CREATED:20250721T215847Z
LAST-MODIFIED:20250721T215847Z
UID:4973-1755352800-1755360000@crookedoaksrvpark.com
SUMMARY:Kid’s Craft Day
DESCRIPTION:Get creative at our Craft Day at the RV park! Whether you’re into painting\, jewelry\, or DIY\nprojects\, there’s something for everyone. Supplies will be provided. Enjoy a fun-filled day of\ncrafting and fellowship. Come unleash your inner artist and make something special!
URL:https://crookedoaksrvpark.com/event/kids-craft-day/
END:VEVENT
BEGIN:VEVENT
DTSTART;TZID=UTC:20250816T100000
DTEND;TZID=UTC:20250816T140000
DTSTAMP:20260426T013558
CREATED:20250721T215715Z
LAST-MODIFIED:20250721T215715Z
UID:4971-1755338400-1755352800@crookedoaksrvpark.com
SUMMARY:Flower Candle Craft
DESCRIPTION:Join us for a relaxing and creative afternoon making beautiful flower candles! Use real dried\nflowers and your choice of scents to design a one-of-a-kind candle to take home or gift. Perfect\nfor all ages—no experience needed. All supplies provided. The fun starts at 10am!
URL:https://crookedoaksrvpark.com/event/flower-candle-craft/
END:VEVENT
BEGIN:VEVENT
DTSTART;TZID=UTC:20250815T180000
DTEND;TZID=UTC:20250815T180000
DTSTAMP:20260426T013558
CREATED:20250721T215620Z
LAST-MODIFIED:20250721T221630Z
UID:4969-1755280800-1755280800@crookedoaksrvpark.com
SUMMARY:Bingo
DESCRIPTION:Get ready for a fun-filled Bingo Night! Grab your cards and join us for a lively evening of\nchances to win great prizes\, enjoy some laughs\, and meet new friends. Whether you’re a Bingo\npro or a first-timer\, it’s sure to be a blast! Games start at 6pm.
URL:https://crookedoaksrvpark.com/event/bingo-6/
END:VEVENT
BEGIN:VEVENT
DTSTART;TZID=UTC:20250813T100000
DTEND;TZID=UTC:20250813T120000
DTSTAMP:20260426T013558
CREATED:20250721T215419Z
LAST-MODIFIED:20250721T215419Z
UID:4963-1755079200-1755086400@crookedoaksrvpark.com
SUMMARY:Pickleball
DESCRIPTION:Whether you’re a seasoned pro or a first-timer\, our courts offer the perfect spot to get active\nand enjoy this fast-paced\, social game. Grab a paddle\, meet fellow guests\, and hit the court for\nsome exciting rallies. It’s a great way to stay fit\, make new friends\, and enjoy the outdoors\nwhile having a blast. Games start at 10am!
URL:https://crookedoaksrvpark.com/event/pickleball-6/
END:VEVENT
BEGIN:VEVENT
DTSTART;TZID=UTC:20250809T100000
DTEND;TZID=UTC:20250809T130000
DTSTAMP:20260426T013558
CREATED:20250721T215335Z
LAST-MODIFIED:20250721T215335Z
UID:4961-1754733600-1754744400@crookedoaksrvpark.com
SUMMARY:Clam Shell Decorating
DESCRIPTION:Get creative by decorating real clam shells with paint\, glitter\, and more! This fun\, beachy craft is\nperfect for all ages and makes a great keepsake from your RV adventure. All materials are\nprovided—just bring your imagination. Activity starts at 10am!
URL:https://crookedoaksrvpark.com/event/clam-shell-decorating/
END:VEVENT
BEGIN:VEVENT
DTSTART;TZID=UTC:20250808T180000
DTEND;TZID=UTC:20250808T180000
DTSTAMP:20260426T013558
CREATED:20250721T215151Z
LAST-MODIFIED:20250721T221736Z
UID:4955-1754676000-1754676000@crookedoaksrvpark.com
SUMMARY:Line Dancing
DESCRIPTION:Put on your dancing boots and join us for a fun Line Dancing class at our RV park! Whether\nyou’re a beginner or a seasoned dancer\, our friendly instructor Mrs. Patti will guide you through\nthe steps to some lively tunes. It’s a great way to get moving\, have fun\, and meet new friends!\nCome dance the day away with us! Class starts at 6:00pm!
URL:https://crookedoaksrvpark.com/event/line-dancing-5/
END:VEVENT
BEGIN:VEVENT
DTSTART;TZID=UTC:20250806T100000
DTEND;TZID=UTC:20250806T103000
DTSTAMP:20260426T013558
CREATED:20250721T215007Z
LAST-MODIFIED:20250721T215007Z
UID:4951-1754474400-1754476200@crookedoaksrvpark.com
SUMMARY:Pool Exercises
DESCRIPTION:Stay active and have fun with our Pool Exercises at the RV park! Join us for a refreshing\, low-\nimpact workout in the pool that’s perfect for all fitness levels. It’s a great way to get your body\nmoving\, improve strength\, and enjoy the water. Come splash\, stretch\, and soak up the sunshine\nwith us. Class starts at 10:00am!
URL:https://crookedoaksrvpark.com/event/pool-exercises-9/
END:VEVENT
BEGIN:VEVENT
DTSTART;TZID=UTC:20250730T100000
DTEND;TZID=UTC:20250730T140000
DTSTAMP:20260426T013558
CREATED:20250609T161031Z
LAST-MODIFIED:20250609T161031Z
UID:4890-1753869600-1753884000@crookedoaksrvpark.com
SUMMARY:Pickleball
DESCRIPTION:Whether you’re a seasoned pro or a first-timer\, our courts offer the perfect spot to get active and enjoy this fast-paced\, social game. Grab a paddle\, meet fellow guests\, and hit the court for some exciting rallies. It’s a great way to stay fit\, make new friends\, and enjoy the outdoors while having a blast. Games start at 10am!
URL:https://crookedoaksrvpark.com/event/pickleball-5/
ATTACH;FMTTYPE=image/png:https://crookedoaksrvpark.com/wp-content/uploads/2025/05/pickleball.png
END:VEVENT
BEGIN:VEVENT
DTSTART;VALUE=DATE:20250729
DTEND;VALUE=DATE:20250730
DTSTAMP:20260426T013558
CREATED:20250609T160710Z
LAST-MODIFIED:20250609T162004Z
UID:4882-1753747200-1753833599@crookedoaksrvpark.com
SUMMARY:Craft Day
DESCRIPTION:Get creative at our Craft Day at the RV park! Whether you’re into painting\, jewelry\, or DIY projects\, there’s something for everyone. Supplies will be provided. Enjoy a fun-filled day of crafting and fellowship. Come unleash your inner artist and make something special!
URL:https://crookedoaksrvpark.com/event/craft-day-17/
ATTACH;FMTTYPE=image/jpeg:https://crookedoaksrvpark.com/wp-content/uploads/2025/06/Craft-Day.jpg
END:VEVENT
BEGIN:VEVENT
DTSTART;VALUE=DATE:20250727
DTEND;VALUE=DATE:20250728
DTSTAMP:20260426T013558
CREATED:20250609T160642Z
LAST-MODIFIED:20250609T162025Z
UID:4880-1753574400-1753660799@crookedoaksrvpark.com
SUMMARY:Craft Day
DESCRIPTION:Get creative at our Craft Day at the RV park! Whether you’re into painting\, jewelry\, or DIY projects\, there’s something for everyone. Supplies will be provided. Enjoy a fun-filled day of crafting and fellowship. Come unleash your inner artist and make something special!
URL:https://crookedoaksrvpark.com/event/craft-day-16/
ATTACH;FMTTYPE=image/jpeg:https://crookedoaksrvpark.com/wp-content/uploads/2025/06/Craft-Day.jpg
END:VEVENT
BEGIN:VEVENT
DTSTART;TZID=UTC:20250726T100000
DTEND;TZID=UTC:20250726T140000
DTSTAMP:20260426T013558
CREATED:20250609T160957Z
LAST-MODIFIED:20250609T160957Z
UID:4888-1753524000-1753538400@crookedoaksrvpark.com
SUMMARY:Pickleball
DESCRIPTION:Whether you’re a seasoned pro or a first-timer\, our courts offer the perfect spot to get active and enjoy this fast-paced\, social game. Grab a paddle\, meet fellow guests\, and hit the court for some exciting rallies. It’s a great way to stay fit\, make new friends\, and enjoy the outdoors while having a blast. Games start at 10am!
URL:https://crookedoaksrvpark.com/event/pickleball-4/
ATTACH;FMTTYPE=image/png:https://crookedoaksrvpark.com/wp-content/uploads/2025/05/pickleball.png
END:VEVENT
END:VCALENDAR