BEGIN:VCALENDAR
VERSION:2.0
PRODID:-//Crooked Oaks RV Park - ECPv6.13.2.1//NONSGML v1.0//EN
CALSCALE:GREGORIAN
METHOD:PUBLISH
X-WR-CALNAME:Crooked Oaks RV Park
X-ORIGINAL-URL:https://crookedoaksrvpark.com
X-WR-CALDESC:Events for Crooked Oaks RV Park
REFRESH-INTERVAL;VALUE=DURATION:PT1H
X-Robots-Tag:noindex
X-PUBLISHED-TTL:PT1H
BEGIN:VTIMEZONE
TZID:UTC
BEGIN:STANDARD
TZOFFSETFROM:+0000
TZOFFSETTO:+0000
TZNAME:UTC
DTSTART:20250101T000000
END:STANDARD
END:VTIMEZONE
BEGIN:VEVENT
DTSTART;TZID=UTC:20260425T150000
DTEND;TZID=UTC:20260425T160000
DTSTAMP:20260425T171412
CREATED:20260317T224143Z
LAST-MODIFIED:20260317T224143Z
UID:5198-1777129200-1777132800@crookedoaksrvpark.com
SUMMARY:BINGO!
DESCRIPTION:Join us for a few lively rounds of campground BINGO! It’s easy to play\, fun for all ages\, and there are prizes up for grabs. Bring your lucky charm and see if you can call out BINGO first!
URL:https://crookedoaksrvpark.com/event/bingo-12/
ATTACH;FMTTYPE=image/png:https://crookedoaksrvpark.com/wp-content/uploads/2026/03/f87cf984-7e65-4d3c-9175-99cdcdb4c0c2.png
END:VEVENT
BEGIN:VEVENT
DTSTART;TZID=UTC:20260425T100000
DTEND;TZID=UTC:20260425T140000
DTSTAMP:20260425T171412
CREATED:20260317T224042Z
LAST-MODIFIED:20260317T224042Z
UID:5196-1777111200-1777125600@crookedoaksrvpark.com
SUMMARY:Crafts
DESCRIPTION:Stop by for a relaxing afternoon of crafting fun. We’ll have a variety of easy and creative projects for kids and adults to enjoy. It’s the perfect chance to make something special to take home.
URL:https://crookedoaksrvpark.com/event/crafts-6/
ATTACH;FMTTYPE=image/png:https://crookedoaksrvpark.com/wp-content/uploads/2026/03/7717ff1a-29ea-454d-b700-42e8a9c00783.png
END:VEVENT
BEGIN:VEVENT
DTSTART;TZID=UTC:20260424T160000
DTEND;TZID=UTC:20260424T170000
DTSTAMP:20260425T171412
CREATED:20260317T223931Z
LAST-MODIFIED:20260317T223931Z
UID:5194-1777046400-1777050000@crookedoaksrvpark.com
SUMMARY:Line Dancing
DESCRIPTION:Kick up your boots and join us for some fun line dancing! Whether you’re a beginner or already know the steps\, everyone is welcome to join in. It’s great exercise and a lot of laughs.
URL:https://crookedoaksrvpark.com/event/line-dancing-8/
ATTACH;FMTTYPE=image/png:https://crookedoaksrvpark.com/wp-content/uploads/2026/03/8f39c52f-d3a4-44cb-9bc2-21ac5a071da5.png
END:VEVENT
BEGIN:VEVENT
DTSTART;TZID=UTC:20260424T130000
DTEND;TZID=UTC:20260424T150000
DTSTAMP:20260425T171412
CREATED:20260317T223818Z
LAST-MODIFIED:20260317T223818Z
UID:5192-1777035600-1777042800@crookedoaksrvpark.com
SUMMARY:Crafts
DESCRIPTION:Stop by for a relaxing afternoon of crafting fun. We’ll have a variety of easy and creative projects for kids and adults to enjoy. It’s the perfect chance to make something special to take home.
URL:https://crookedoaksrvpark.com/event/crafts-5/
ATTACH;FMTTYPE=image/png:https://crookedoaksrvpark.com/wp-content/uploads/2026/03/7717ff1a-29ea-454d-b700-42e8a9c00783.png
END:VEVENT
BEGIN:VEVENT
DTSTART;TZID=UTC:20260418T150000
DTEND;TZID=UTC:20260418T160000
DTSTAMP:20260425T171412
CREATED:20260317T223723Z
LAST-MODIFIED:20260317T223723Z
UID:5189-1776524400-1776528000@crookedoaksrvpark.com
SUMMARY:Trivia
DESCRIPTION:Put your knowledge to the test in our campground trivia game. Gather a team or play on your own and see how many questions you can answer correctly. Fun questions\, friendly competition\, and prizes await!
URL:https://crookedoaksrvpark.com/event/trivia-2/
ATTACH;FMTTYPE=image/png:https://crookedoaksrvpark.com/wp-content/uploads/2026/03/f97a72e5-6ae7-4eaf-9993-24469c273e05.png
END:VEVENT
BEGIN:VEVENT
DTSTART;TZID=UTC:20260418T100000
DTEND;TZID=UTC:20260418T140000
DTSTAMP:20260425T171412
CREATED:20260317T223614Z
LAST-MODIFIED:20260317T223614Z
UID:5187-1776506400-1776520800@crookedoaksrvpark.com
SUMMARY:Crafts
DESCRIPTION:Stop by for a relaxing afternoon of crafting fun. We’ll have a variety of easy and creative projects for kids and adults to enjoy. It’s the perfect chance to make something special to take home.
URL:https://crookedoaksrvpark.com/event/crafts-4/
ATTACH;FMTTYPE=image/png:https://crookedoaksrvpark.com/wp-content/uploads/2026/03/7717ff1a-29ea-454d-b700-42e8a9c00783.png
END:VEVENT
BEGIN:VEVENT
DTSTART;TZID=UTC:20260417T160000
DTEND;TZID=UTC:20260417T170000
DTSTAMP:20260425T171412
CREATED:20260317T223506Z
LAST-MODIFIED:20260317T223506Z
UID:5184-1776441600-1776445200@crookedoaksrvpark.com
SUMMARY:BINGO!
DESCRIPTION:Join us for a few lively rounds of campground BINGO! It’s easy to play\, fun for all ages\, and there are prizes up for grabs. Bring your lucky charm and see if you can call out BINGO first!
URL:https://crookedoaksrvpark.com/event/bingo-11/
ATTACH;FMTTYPE=image/png:https://crookedoaksrvpark.com/wp-content/uploads/2026/03/f87cf984-7e65-4d3c-9175-99cdcdb4c0c2.png
END:VEVENT
BEGIN:VEVENT
DTSTART;TZID=UTC:20260417T130000
DTEND;TZID=UTC:20260417T150000
DTSTAMP:20260425T171412
CREATED:20260317T223410Z
LAST-MODIFIED:20260317T223410Z
UID:5182-1776430800-1776438000@crookedoaksrvpark.com
SUMMARY:Crafts
DESCRIPTION:Stop by for a relaxing afternoon of crafting fun. We’ll have a variety of easy and creative projects for kids and adults to enjoy. It’s the perfect chance to make something special to take home.
URL:https://crookedoaksrvpark.com/event/crafts-3/
ATTACH;FMTTYPE=image/png:https://crookedoaksrvpark.com/wp-content/uploads/2026/03/7717ff1a-29ea-454d-b700-42e8a9c00783.png
END:VEVENT
BEGIN:VEVENT
DTSTART;TZID=UTC:20260411T150000
DTEND;TZID=UTC:20260411T160000
DTSTAMP:20260425T171412
CREATED:20260317T223310Z
LAST-MODIFIED:20260317T223310Z
UID:5180-1775919600-1775923200@crookedoaksrvpark.com
SUMMARY:BINGO!
DESCRIPTION:Join us for a few lively rounds of campground BINGO! It’s easy to play\, fun for all ages\, and there are prizes up for grabs. Bring your lucky charm and see if you can call out BINGO first!
URL:https://crookedoaksrvpark.com/event/bingo-10/
ATTACH;FMTTYPE=image/png:https://crookedoaksrvpark.com/wp-content/uploads/2026/03/f87cf984-7e65-4d3c-9175-99cdcdb4c0c2.png
END:VEVENT
BEGIN:VEVENT
DTSTART;TZID=UTC:20260411T100000
DTEND;TZID=UTC:20260411T140000
DTSTAMP:20260425T171412
CREATED:20260317T223200Z
LAST-MODIFIED:20260317T223200Z
UID:5178-1775901600-1775916000@crookedoaksrvpark.com
SUMMARY:Crafts
DESCRIPTION:Stop by for a relaxing afternoon of crafting fun. We’ll have a variety of easy and creative projects for kids and adults to enjoy. It’s the perfect chance to make something special to take home.
URL:https://crookedoaksrvpark.com/event/crafts-2/
ATTACH;FMTTYPE=image/png:https://crookedoaksrvpark.com/wp-content/uploads/2026/03/7717ff1a-29ea-454d-b700-42e8a9c00783.png
END:VEVENT
BEGIN:VEVENT
DTSTART;TZID=UTC:20260410T160000
DTEND;TZID=UTC:20260410T170000
DTSTAMP:20260425T171412
CREATED:20260317T222354Z
LAST-MODIFIED:20260317T223053Z
UID:5172-1775836800-1775840400@crookedoaksrvpark.com
SUMMARY:Trivia
DESCRIPTION:Put your knowledge to the test in our campground trivia game. Gather a team or play on your own and see how many questions you can answer correctly. Fun questions\, friendly competition\, and prizes await!
URL:https://crookedoaksrvpark.com/event/trivia/
ATTACH;FMTTYPE=image/png:https://crookedoaksrvpark.com/wp-content/uploads/2026/03/f97a72e5-6ae7-4eaf-9993-24469c273e05.png
END:VEVENT
BEGIN:VEVENT
DTSTART;TZID=UTC:20260410T150000
DTEND;TZID=UTC:20260410T160000
DTSTAMP:20260425T171412
CREATED:20260317T222031Z
LAST-MODIFIED:20260317T222833Z
UID:5168-1775833200-1775836800@crookedoaksrvpark.com
SUMMARY:Line Dancing
DESCRIPTION:Kick up your boots and join us for some fun line dancing! Whether you’re a beginner or already know the steps\, everyone is welcome to join in. It’s great exercise and a lot of laughs.
URL:https://crookedoaksrvpark.com/event/line-dancing-7/
ATTACH;FMTTYPE=image/png:https://crookedoaksrvpark.com/wp-content/uploads/2026/03/8f39c52f-d3a4-44cb-9bc2-21ac5a071da5.png
END:VEVENT
BEGIN:VEVENT
DTSTART;TZID=UTC:20260410T130000
DTEND;TZID=UTC:20260410T150000
DTSTAMP:20260425T171412
CREATED:20260317T221915Z
LAST-MODIFIED:20260317T222245Z
UID:5165-1775826000-1775833200@crookedoaksrvpark.com
SUMMARY:Crafts
DESCRIPTION:Stop by for a relaxing afternoon of crafting fun. We’ll have a variety of easy and creative projects for kids and adults to enjoy. It’s the perfect chance to make something special to take home.
URL:https://crookedoaksrvpark.com/event/crafts/
ATTACH;FMTTYPE=image/png:https://crookedoaksrvpark.com/wp-content/uploads/2026/03/7717ff1a-29ea-454d-b700-42e8a9c00783.png
END:VEVENT
BEGIN:VEVENT
DTSTART;TZID=UTC:20260404T170000
DTEND;TZID=UTC:20260404T180000
DTSTAMP:20260425T171412
CREATED:20260317T221358Z
LAST-MODIFIED:20260317T221732Z
UID:5160-1775322000-1775325600@crookedoaksrvpark.com
SUMMARY:Cake Contest Results
DESCRIPTION:Join us as we announce the winners of the Easter Cake Contest! We’ll reveal the most delicious and creative cakes submitted by our campers. Stick around to celebrate the winners and see who takes the top prize.
URL:https://crookedoaksrvpark.com/event/cake-contest-results/
ATTACH;FMTTYPE=image/png:https://crookedoaksrvpark.com/wp-content/uploads/2026/03/4d208108-c235-49a6-bf85-0a68174ff999.png
END:VEVENT
BEGIN:VEVENT
DTSTART;TZID=UTC:20260404T160000
DTEND;TZID=UTC:20260404T190000
DTSTAMP:20260425T171412
CREATED:20260317T221256Z
LAST-MODIFIED:20260317T221538Z
UID:5157-1775318400-1775329200@crookedoaksrvpark.com
SUMMARY:Cornhole Tournament
DESCRIPTION:Think you have the best aim in the park? Team up and compete in our friendly cornhole tournament. Whether you’re a pro or a beginner\, it’s a great way to enjoy some outdoor competition.
URL:https://crookedoaksrvpark.com/event/cornhole-tournament/
ATTACH;FMTTYPE=image/png:https://crookedoaksrvpark.com/wp-content/uploads/2026/03/1cd1305a-3ca4-4e29-bfef-4afc200be3e2.png
END:VEVENT
BEGIN:VEVENT
DTSTART;TZID=UTC:20260404T140000
DTEND;TZID=UTC:20260404T170000
DTSTAMP:20260425T171412
CREATED:20260317T220531Z
LAST-MODIFIED:20260317T221121Z
UID:5152-1775311200-1775322000@crookedoaksrvpark.com
SUMMARY:Egg Toss & Egg Roll Contest
DESCRIPTION:Test your teamwork in the classic egg toss challenge—just try not to drop it! Then join the fun with an egg roll race to see who can roll their egg to the finish line the fastest. Expect laughs\, messes\, and lots of fun.
URL:https://crookedoaksrvpark.com/event/egg-toss-egg-roll-contest/
ATTACH;FMTTYPE=image/png:https://crookedoaksrvpark.com/wp-content/uploads/2026/03/b21446db-f451-469e-b29f-c546427b1e49.png
END:VEVENT
BEGIN:VEVENT
DTSTART;TZID=UTC:20260404T130000
DTEND;TZID=UTC:20260404T170000
DTSTAMP:20260425T171412
CREATED:20260317T220422Z
LAST-MODIFIED:20260317T220707Z
UID:5149-1775307600-1775322000@crookedoaksrvpark.com
SUMMARY:Easter Egg Hunt
DESCRIPTION:Grab your baskets and get ready to hunt! Kids will search high and low around the park for colorful eggs filled with surprises. It’s one of the most exciting traditions of Easter weekend.
URL:https://crookedoaksrvpark.com/event/easter-egg-hunt/
ATTACH;FMTTYPE=image/png:https://crookedoaksrvpark.com/wp-content/uploads/2026/03/6dfd5f1b-8c7f-4091-ae6f-ae38f12d41f7.png
END:VEVENT
BEGIN:VEVENT
DTSTART;TZID=UTC:20260404T100000
DTEND;TZID=UTC:20260404T140000
DTSTAMP:20260425T171412
CREATED:20260317T220306Z
LAST-MODIFIED:20260317T220306Z
UID:5146-1775296800-1775311200@crookedoaksrvpark.com
SUMMARY:Paper Easter Baskets
DESCRIPTION:Create your very own Easter basket using colorful paper and craft supplies. This easy and fun activity is perfect for kids getting ready for the egg hunt. Take your basket home or use it to collect eggs later!
URL:https://crookedoaksrvpark.com/event/paper-easter-baskets-2/
ATTACH;FMTTYPE=image/png:https://crookedoaksrvpark.com/wp-content/uploads/2026/03/07b03736-2e71-4167-ae12-88e31615ec53.png
END:VEVENT
BEGIN:VEVENT
DTSTART;VALUE=DATE:20260404
DTEND;VALUE=DATE:20260405
DTSTAMP:20260425T171412
CREATED:20260317T215924Z
LAST-MODIFIED:20260317T220157Z
UID:5142-1775260800-1775347199@crookedoaksrvpark.com
SUMMARY:Easter Cake Contest
DESCRIPTION:Show off your baking skills and creativity in our Easter Cake Contest. Bring your best Easter-themed cake to be judged on taste\, decoration\, and originality. The winner earns bragging rights and a sweet prize!
URL:https://crookedoaksrvpark.com/event/easter-cake-contest/
ATTACH;FMTTYPE=image/png:https://crookedoaksrvpark.com/wp-content/uploads/2026/03/77622752-1a4c-4510-98ee-18aadaaf9b1c.png
END:VEVENT
BEGIN:VEVENT
DTSTART;TZID=UTC:20260403T160000
DTEND;TZID=UTC:20260403T170000
DTSTAMP:20260425T171412
CREATED:20260317T215004Z
LAST-MODIFIED:20260317T215417Z
UID:5136-1775232000-1775235600@crookedoaksrvpark.com
SUMMARY:BINGO!
DESCRIPTION:Join us for a few lively rounds of campground BINGO! It’s easy to play\, fun for all ages\, and there are prizes up for grabs. Bring your lucky charm and see if you can call out BINGO first!
URL:https://crookedoaksrvpark.com/event/bingo-9/
ATTACH;FMTTYPE=image/png:https://crookedoaksrvpark.com/wp-content/uploads/2026/03/f87cf984-7e65-4d3c-9175-99cdcdb4c0c2.png
END:VEVENT
BEGIN:VEVENT
DTSTART;TZID=UTC:20260403T140000
DTEND;TZID=UTC:20260403T160000
DTSTAMP:20260425T171412
CREATED:20260317T214842Z
LAST-MODIFIED:20260317T215300Z
UID:5134-1775224800-1775232000@crookedoaksrvpark.com
SUMMARY:Paper Easter Baskets
DESCRIPTION:Create your very own Easter basket using colorful paper and craft supplies. This easy and fun activity is perfect for kids getting ready for the egg hunt. Take your basket home or use it to collect eggs later!
URL:https://crookedoaksrvpark.com/event/paper-easter-baskets/
ATTACH;FMTTYPE=image/png:https://crookedoaksrvpark.com/wp-content/uploads/2026/03/07b03736-2e71-4167-ae12-88e31615ec53.png
END:VEVENT
BEGIN:VEVENT
DTSTART;TZID=UTC:20260403T120000
DTEND;TZID=UTC:20260403T140000
DTSTAMP:20260425T171412
CREATED:20260317T214711Z
LAST-MODIFIED:20260317T215656Z
UID:5132-1775217600-1775224800@crookedoaksrvpark.com
SUMMARY:Egg Dye & Decorating
DESCRIPTION:Get creative and decorate your own colorful Easter eggs! We’ll provide the supplies—you bring the imagination. It’s a fun and festive way to kick off the Easter weekend for kids and adults alike.
URL:https://crookedoaksrvpark.com/event/egg-dye-decorating/
ATTACH;FMTTYPE=image/png:https://crookedoaksrvpark.com/wp-content/uploads/2026/03/c9ed9220-ef83-4d3e-82c8-a5ef4b5c0bb9.png
END:VEVENT
BEGIN:VEVENT
DTSTART;TZID=UTC:20251025T110000
DTEND;TZID=UTC:20251025T150000
DTSTAMP:20260425T171412
CREATED:20250918T183637Z
LAST-MODIFIED:20250918T183637Z
UID:5077-1761390000-1761404400@crookedoaksrvpark.com
SUMMARY:HALLOWEEN BLOCK PARTY
DESCRIPTION:Join us for a spooktacular time on Halloween from 11 AM to 3 PM at Crooked Oaks RV Park! Enjoy a festive day packed with fun for all ages\, including live music and karaoke by DJ EMS\, a bounce house\, food truck\, s’mores\, and exciting surprises throughout the event. Don’t miss the sweet arrival of the Pelican’s Sno ball truck at 2 PM serving up delicious frozen treats! Come in costume\, bring your friends and family\, and celebrate Halloween with the Crooked Oaks community!
URL:https://crookedoaksrvpark.com/event/halloween-block-party/
ATTACH;FMTTYPE=image/png:https://crookedoaksrvpark.com/wp-content/uploads/2025/09/6e87fb41-0314-4bea-a200-c2ad69a589af.png
END:VEVENT
BEGIN:VEVENT
DTSTART;TZID=UTC:20251011T110000
DTEND;TZID=UTC:20251011T140000
DTSTAMP:20260425T171412
CREATED:20250918T183819Z
LAST-MODIFIED:20250918T183819Z
UID:5082-1760180400-1760191200@crookedoaksrvpark.com
SUMMARY:Kids Crafts
DESCRIPTION:Get creative at our Craft Day at the RV park! Whether you’re into painting\, jewelry\, or DIY projects\, there’s something for everyone. Supplies will be provided. Enjoy a fun-filled day of crafting and fellowship. Come unleash your inner artist and make something special. Event starts at 11:00am!
URL:https://crookedoaksrvpark.com/event/kids-crafts-3/
ATTACH;FMTTYPE=image/jpeg:https://crookedoaksrvpark.com/wp-content/uploads/2025/06/kid-crafts.jpg
END:VEVENT
BEGIN:VEVENT
DTSTART;TZID=UTC:20251004T110000
DTEND;TZID=UTC:20251004T140000
DTSTAMP:20260425T171412
CREATED:20250918T183735Z
LAST-MODIFIED:20250918T183735Z
UID:5080-1759575600-1759586400@crookedoaksrvpark.com
SUMMARY:Kids Crafts
DESCRIPTION:Get creative at our Craft Day at the RV park! Whether you’re into painting\, jewelry\, or DIY projects\, there’s something for everyone. Supplies will be provided. Enjoy a fun-filled day of crafting and fellowship. Come unleash your inner artist and make something special. Event starts at 11:00am!
URL:https://crookedoaksrvpark.com/event/kids-crafts-2/
ATTACH;FMTTYPE=image/jpeg:https://crookedoaksrvpark.com/wp-content/uploads/2025/06/kid-crafts.jpg
END:VEVENT
BEGIN:VEVENT
DTSTART;TZID=UTC:20250918T110000
DTEND;TZID=UTC:20250918T140000
DTSTAMP:20260425T171412
CREATED:20250918T183103Z
LAST-MODIFIED:20250918T183103Z
UID:5075-1758193200-1758204000@crookedoaksrvpark.com
SUMMARY:Kids Crafts
DESCRIPTION:Get creative at our Craft Day at the RV park! Whether you’re into painting\, jewelry\, or DIY projects\, there’s something for everyone. Supplies will be provided. Enjoy a fun-filled day of crafting and fellowship. Come unleash your inner artist and make something special. Event starts at 11:00am!
URL:https://crookedoaksrvpark.com/event/kids-crafts/
ATTACH;FMTTYPE=image/jpeg:https://crookedoaksrvpark.com/wp-content/uploads/2025/06/kid-crafts.jpg
END:VEVENT
BEGIN:VEVENT
DTSTART;TZID=UTC:20250831T160000
DTEND;TZID=UTC:20250831T200000
DTSTAMP:20260425T171412
CREATED:20250721T220805Z
LAST-MODIFIED:20250721T220805Z
UID:5000-1756656000-1756670400@crookedoaksrvpark.com
SUMMARY:EMS Karaoke
DESCRIPTION:EMS Entertainment is bringing the beats to our RV park! Get ready for an afternoon of music\,\ndancing\, and good vibes. Whether you’re into classic hits\, today’s chart-toppers\, or something\nin between\, DJ EMS knows how to keep the party going. Come join the fun and let’s make some\nmemories under the stars. Music will go from 4:00pm-8:00pm!
URL:https://crookedoaksrvpark.com/event/ems-karaoke-3/
END:VEVENT
BEGIN:VEVENT
DTSTART;TZID=UTC:20250831T140000
DTEND;TZID=UTC:20250831T160000
DTSTAMP:20260425T171412
CREATED:20250721T220858Z
LAST-MODIFIED:20250721T220858Z
UID:5002-1756648800-1756656000@crookedoaksrvpark.com
SUMMARY:Tie Dye T-Shirts
DESCRIPTION:Show off your Crooked Oaks pride with a custom Tie-Dye T-shirt at the RV park! For just $15\,\nyou’ll get a vibrant\, one-of-a-kind shirt featuring our Crooked Oaks logo on the front and back.\nIt’s a fun way to make a colorful memory and sport your park spirit. The fun starts at 2pm!
URL:https://crookedoaksrvpark.com/event/tie-dye-t-shirts-3/
END:VEVENT
BEGIN:VEVENT
DTSTART;TZID=UTC:20250830T160000
DTEND;TZID=UTC:20250830T200000
DTSTAMP:20260425T171412
CREATED:20250721T220733Z
LAST-MODIFIED:20250721T220733Z
UID:4998-1756569600-1756584000@crookedoaksrvpark.com
SUMMARY:EMS Karaoke
DESCRIPTION:EMS Entertainment is bringing the beats to our RV park! Get ready for an afternoon of music\,\ndancing\, and good vibes. Whether you’re into classic hits\, today’s chart-toppers\, or something\nin between\, DJ EMS knows how to keep the party going. Come join the fun and let’s make some\nmemories under the stars. Music will go from 4:00pm-8:00pm!
URL:https://crookedoaksrvpark.com/event/ems-karaoke-2/
END:VEVENT
BEGIN:VEVENT
DTSTART;TZID=UTC:20250830T140000
DTEND;TZID=UTC:20250830T160000
DTSTAMP:20260425T171412
CREATED:20250721T220356Z
LAST-MODIFIED:20250721T220356Z
UID:4988-1756562400-1756569600@crookedoaksrvpark.com
SUMMARY:Kids Craft Day
DESCRIPTION:Get creative at our Craft Day at the RV park! Whether you’re into painting\, jewelry\, or DIY\nprojects\, there’s something for everyone. Supplies will be provided. Enjoy a fun-filled day of\ncrafting and fellowship. Come unleash your inner artist and make something special!
URL:https://crookedoaksrvpark.com/event/kids-craft-day-6/
END:VEVENT
END:VCALENDAR